Workbook

Sheet Introduction
B2: Database of social protection expenditure in Pacific Island Countries and Timor-Leste
B3: Partnerships for Social Protection
B4: Edition: August 2024
B6: Introduction
B7: This spreadsheet data on social protection expenditure in a selection of Pacific Island Countries, and Timor-Leste. The expenditure data is presented by scheme, and is classified according to the economic and functional classification of government expenditure described in the IMF Government Finance Statistics Manual (GFSM) of 2014. The expenditure data was collected and classified as part of a Partnership for Social Protection (P4SP) activity focused on financing investments in social protection.
B8: A description of the methodology used in the mapping, and discussion of the findings from the mapping can be found in the report. | C8: Investing in social protection for good times and bad: An assessment of social protection financing in the Pacific and Timor-Leste - P4SP
B9: The database presents the best attempt by the researchers to accurately, however, the researchers welcome any corrections or suggestions on refining the data. For any questions about the dataset or to share the findings of further secondary analysis, please contact admin@p4sp.org.
B11: Suggested citation:
B12: Partnerships for Social Protection (P4SP) (2023) Database of social protection expenditure in Pacific Island Countries and Timor-Leste - August 2024 edition | C12: Updated database of social protection expenditure in Pacific Island Countries and Timor-Leste - P4SP
B14: Contents
B15: Detailed country data and classification (sheets are labelled by ISO country code)
B16: Cook Islands (COK)
B17: Fiji (FJI)
B18: Federated States of Micronesia (FSM)
B19: Kiribati (KIR)
B20: Nauru (NRU)
B21: Palau (PLW)
B22: Papua New Guinea (PNG)
B23: Republic of the Marshall Islands (MHL)
B24: Samoa (WSM)
B25: Solomon Islands (SLB)
... B29: Vanuatu (VUT)

Sheet COK
B1: Cook Islands
B2: Latest year of complete data | C2: 2022-23
B3: Budget cycle: | C3: July 1st - June 30st
B4: Currency | C4: NZD
B5: Country code | C5: COK
B6: Unit | C6: thousands
H7: Time series | AE7: Sources | BB7: Budgeted / actual
H8: 2003 | I8: 2004 | J8: 2005 | K8: 2006 | L8: 2007 | M8: 2008 | N8: 2009 | O8: 2010 | P8: 2011 | Q8: 2012 | R8: 2013 | S8: 2014 | T8: 2015 | U8: 2016 | V8: 2017 | W8: 2018 | X8: 2019 | Y8: 2020 | Z8: 2021 | AA8: 2022 | AB8: 2023 | AC8: 2024
B9: Programme | C9: Year Introduced | D9: Administrator | E9: =_xlfn.CONCAT("Expenditure (",C2,"), ",C4," ",C6,"") -> Expenditure (2022-23), NZD thousands | F9: Economic classicfication (Expense) | G9: COFOG | Q9: 2011-12 | R9: 2012-13 | S9: 2013-14 | T9: 2014-15 | U9: 2015-16 | V9: 2016-17 | W9: 2017-18 | X9: 2018-19 | Y9: 2019-20 | Z9: 2020-21 | AA9: 2021-22 | AB9: 2022-23 | AC9: 2023-24 | AE9: =H9 -> 0 | AF9: =I9 -> 0 | AG9: =J9 -> 0 | AH9: =K9 -> 0 | AI9: =L9 -> 0 | AJ9: =M9 -> 0 | AK9: =N9 -> 0 | AL9: =O9 -> 0 | ... AZ9: =AC9 -> 2023-24 | BB9: =H9 -> 0 | BC9: =I9 -> 0 | BD9: =J9 -> 0 | BE9: =K9 -> 0 | BF9: =L9 -> 0 | BG9: =M9 -> 0 | BH9: =N9 -> 0 | BI9: =O9 -> 0 | ... BW9: =AC9 -> 2023-24
A10: 1 | B10: Old Age Pension 60+ (or total) | E10: =_xlfn.XLOOKUP($C$2,$R$9:$AC$9,R10:AC10) -> 7240.868 | F10: Social assistance benefits (272) | G10: Old age (7102) | Q10: 7866.066 | R10: 8617.6 | S10: 9981.9 | T10: 11775 | U10: 12479.194 | V10: 12109.659 | W10: 12281.286 | X10: 12455.438 | Y10: 13078.253 | Z10: 6345.434 | AA10: 6682.05 | AB10: 7240.868 | AC10: 7994.225 | AJ10: =IF(M10=0,"","*") | AK10: =IF(N10=0,"","*") | AL10: =IF(O10=0,"","*") | AM10: =IF(P10=0,"","*") | AN10: 2012-13 Budget (p. 84) | AO10: 2012-13 Budget (p. 84) | AP10: 2014-15 Budget (p. 86) | AQ10: 2014-15 Budget (p. 86) | AR10: 2015-16 Budget (p. 89-90) | AS10: 2016-17 Budget (p. 109) | AT10: 2017-18 Budget (p. 107) | AU10: 2018-19 Budget (p. 116-17) | AV10: 2019-20 Budget (p. 114) | AW10: 2020-21 Budget (p. 176) | AX10: 2021-22 Budget (p. 171) | AY10: 2022-23 Budget (p. 132) | AZ10: 2023-24 Budget (p. 120) | BG10: =IF(M10=0,"","*") | BH10: =IF(N10=0,"","*") | BI10: =IF(O10=0,"","*") | BJ10: =IF(P10=0,"","*") | BK10: Estimate | BL10: Estimate | BM10: Actual | BN10: Estimate | BO10: Estimate | BP10: Estimate | BQ10: Estimate | BR10: Estimate | BS10: Estimate | BT10: Estimate | BU10: Estimate | BV10: Estimate | BW10: Estimate
A11: 2 | B11: Old Age Pension 70+ | E11: =_xlfn.XLOOKUP($C$2,$R$9:$AC$9,R11:AC11) -> 6742.731 | F11: Social assistance benefits (272) | G11: Old age (7102) | Z11: 6568.599 | AA11: 6343.65 | AB11: 6742.731 | AC11: 6494.869 | AJ11: =IF(M11=0,"","*") | AK11: =IF(N11=0,"","*") | AL11: =IF(O11=0,"","*") | AM11: =IF(P11=0,"","*") | AN11: =IF(Q11=0,"","*") | AO11: =IF(R11=0,"","*") | AP11: =IF(S11=0,"","*") | AQ11: =IF(T11=0,"","*") | ... AV11: =IF(Y11=0,"","*") | AW11: 2020-21 Budget (p. 176) | AX11: 2021-22 Budget (p. 171) | AY11: 2022-23 Budget (p. 132) | AZ11: 2023-24 Budget (p. 120) | BG11: =IF(M11=0,"","*") | BH11: =IF(N11=0,"","*") | BI11: =IF(O11=0,"","*") | BJ11: =IF(P11=0,"","*") | BK11: =IF(Q11=0,"","*") | BL11: =IF(R11=0,"","*") | BM11: =IF(S11=0,"","*") | BN11: =IF(T11=0,"","*") | ... BS11: =IF(Y11=0,"","*") | BT11: Estimate | BU11: Estimate | BV11: Estimate | BW11: Estimate
A12: 3 | B12: Child Benefit | E12: =_xlfn.XLOOKUP($C$2,$R$9:$AC$9,R12:AC12) -> 5413.709 | F12: Social assistance benefits (272) | G12: Family and children (7104) | Q12: 2706.672 | R12: 2595.6 | S12: 2650.736 | T12: 2692.8 | U12: 2700.72 | V12: 2654.907 | W12: 4036.831 | X12: 4665.774 | Y12: 5575.882 | Z12: 5413.029 | AA12: 5566 | AB12: 5413.709 | AC12: 5387.286 | AJ12: =IF(M12=0,"","*") | AK12: =IF(N12=0,"","*") | AL12: =IF(O12=0,"","*") | AM12: =IF(P12=0,"","*") | AN12: 2012-13 Budget (p. 84) | AO12: 2012-13 Budget (p. 84) | AP12: 2014-15 Budget (p. 86) | AQ12: 2014-15 Budget (p. 86) | AR12: 2015-16 Budget (p. 89-90) | AS12: 2016-17 Budget (p. 109) | AT12: 2017-18 Budget (p. 107) | AU12: 2018-19 Budget (p. 116-17) | AV12: 2019-20 Budget (p. 114) | AW12: 2020-21 Budget (p. 176) | AX12: 2021-22 Budget (p. 171) | AY12: 2022-23 Budget (p. 132) | AZ12: 2023-24 Budget (p. 120) | BG12: =IF(M12=0,"","*") | BH12: =IF(N12=0,"","*") | BI12: =IF(O12=0,"","*") | BJ12: =IF(P12=0,"","*") | BK12: Estimate | BL12: Estimate | BM12: Actual | BN12: Estimate | BO12: Estimate | BP12: Estimate | BQ12: Estimate | BR12: Estimate | BS12: Estimate | BT12: Estimate | BU12: Estimate | BV12: Estimate | BW12: Estimate
A13: 4 | B13: New-born Allowance | E13: =_xlfn.XLOOKUP($C$2,$R$9:$AC$9,R13:AC13) -> 229.087 | F13: Social assistance benefits (272) | G13: Family and children (7104) | Q13: 240 | R13: 267 | S13: 234 | T13: 250 | U13: 250 | V13: 200 | W13: 200 | X13: 200 | Y13: 200 | Z13: 240 | AA13: 242.8 | AB13: 229.087 | AC13: 230.465 | AJ13: =IF(M13=0,"","*") | AK13: =IF(N13=0,"","*") | AL13: =IF(O13=0,"","*") | AM13: =IF(P13=0,"","*") | AN13: 2012-13 Budget (p. 84) | AO13: 2012-13 Budget (p. 84) | AP13: 2014-15 Budget (p. 86) | AQ13: 2014-15 Budget (p. 86) | AR13: 2015-16 Budget (p. 89-90) | AS13: 2016-17 Budget (p. 109) | AT13: 2017-18 Budget (p. 107) | AU13: 2018-19 Budget (p. 116-17) | AV13: 2019-20 Budget (p. 114) | AW13: 2020-21 Budget (p. 176) | AX13: 2021-22 Budget (p. 171) | AY13: 2022-23 Budget (p. 132) | AZ13: 2023-24 Budget (p. 120) | BG13: =IF(M13=0,"","*") | BH13: =IF(N13=0,"","*") | BI13: =IF(O13=0,"","*") | BJ13: =IF(P13=0,"","*") | BK13: Estimate | BL13: Estimate | BM13: Actual | BN13: Estimate | BO13: Estimate | BP13: Estimate | BQ13: Estimate | BR13: Estimate | BS13: Estimate | BT13: Estimate | BU13: Estimate | BV13: Estimate | BW13: Estimate
A14: 5 | B14: Destitute and Infirmed | E14: =_xlfn.XLOOKUP($C$2,$R$9:$AC$9,R14:AC14) -> 1280.395 | F14: Social assistance benefits (272) | G14: Sickness and disability (7101) | Q14: 519.222 | R14: 448.2 | S14: 375.681 | T14: 396 | U14: 396 | V14: 528 | W14: 528 | X14: 528 | Y14: 528 | Z14: 1104 | AA14: 1232.1 | AB14: 1280.395 | AC14: 1295.56 | AJ14: =IF(M14=0,"","*") | AK14: =IF(N14=0,"","*") | AL14: =IF(O14=0,"","*") | AM14: =IF(P14=0,"","*") | AN14: 2012-13 Budget (p. 84) | AO14: 2012-13 Budget (p. 84) | AP14: 2014-15 Budget (p. 86) | AQ14: 2014-15 Budget (p. 86) | AR14: 2015-16 Budget (p. 89-90) | AS14: 2016-17 Budget (p. 109) | AT14: 2017-18 Budget (p. 107) | AU14: 2018-19 Budget (p. 116-17) | AV14: 2019-20 Budget (p. 114) | AW14: 2020-21 Budget (p. 176) | AX14: 2021-22 Budget (p. 171) | AY14: 2022-23 Budget (p. 132) | AZ14: 2023-24 Budget (p. 120) | BG14: =IF(M14=0,"","*") | BH14: =IF(N14=0,"","*") | BI14: =IF(O14=0,"","*") | BJ14: =IF(P14=0,"","*") | BK14: Estimate | BL14: Estimate | BM14: Actual | BN14: Estimate | BO14: Estimate | BP14: Estimate | BQ14: Estimate | BR14: Estimate | BS14: Estimate | BT14: Estimate | BU14: Estimate | BV14: Estimate | BW14: Estimate
A15: 6 | B15: Maternity Leave | E15: =_xlfn.XLOOKUP($C$2,$R$9:$AC$9,R15:AC15) -> 150 | F15: Social assistance benefits (272) | G15: Family and children (7104) | R15: 49 | S15: 80.024 | T15: 144 | U15: 120 | V15: 150 | W15: 150 | X15: 150 | Y15: 150 | Z15: 150 | AA15: 150 | AB15: 150 | AC15: 150 | AJ15: =IF(M15=0,"","*") | AK15: =IF(N15=0,"","*") | AL15: =IF(O15=0,"","*") | AM15: =IF(P15=0,"","*") | AN15: =IF(Q15=0,"","*") | AO15: 2012-13 Budget (p. 84) | AP15: 2014-15 Budget (p. 86) | AQ15: 2014-15 Budget (p. 86) | AR15: 2015-16 Budget (p. 89-90) | AS15: 2016-17 Budget (p. 109) | AT15: 2017-18 Budget (p. 107) | AU15: 2018-19 Budget (p. 116-17) | AV15: 2019-20 Budget (p. 114) | AW15: 2020-21 Budget (p. 176) | AX15: 2021-22 Budget (p. 171) | AY15: 2022-23 Budget (p. 132) | AZ15: 2023-24 Budget (p. 120) | BG15: =IF(M15=0,"","*") | BH15: =IF(N15=0,"","*") | BI15: =IF(O15=0,"","*") | BJ15: =IF(P15=0,"","*") | BK15: =IF(Q15=0,"","*") | BL15: Estimate | BM15: Actual | BN15: Estimate | BO15: Estimate | BP15: Estimate | BQ15: Estimate | BR15: Estimate | BS15: Estimate | BT15: Estimate | BU15: Estimate | BV15: Estimate | BW15: Estimate
A16: 7 | B16: Carer Order Payment | E16: =_xlfn.XLOOKUP($C$2,$R$9:$AC$9,R16:AC16) -> 10.4 | F16: Social assistance benefits (272) | G16: Sickness and disability (7101) | V16: 10.4 | W16: 10.4 | X16: 10.4 | Y16: 10.4 | Z16: 10.4 | AA16: 10.4 | AB16: 10.4 | AC16: 10.4 | AJ16: =IF(M16=0,"","*") | AK16: =IF(N16=0,"","*") | AL16: =IF(O16=0,"","*") | AM16: =IF(P16=0,"","*") | AN16: =IF(Q16=0,"","*") | AO16: =IF(R16=0,"","*") | AP16: =IF(S16=0,"","*") | AQ16: =IF(T16=0,"","*") | AR16: =IF(U16=0,"","*") | AS16: 2016-17 Budget (p. 109) | AT16: 2017-18 Budget (p. 107) | AU16: 2018-19 Budget (p. 116-17) | AV16: 2019-20 Budget (p. 114) | AW16: 2020-21 Budget (p. 176) | AX16: 2021-22 Budget (p. 171) | AY16: 2022-23 Budget (p. 132) | AZ16: 2023-24 Budget (p. 120) | BG16: =IF(M16=0,"","*") | BH16: =IF(N16=0,"","*") | BI16: =IF(O16=0,"","*") | BJ16: =IF(P16=0,"","*") | BK16: =IF(Q16=0,"","*") | BL16: =IF(R16=0,"","*") | BM16: =IF(S16=0,"","*") | BN16: =IF(T16=0,"","*") | BO16: =IF(U16=0,"","*") | BP16: Estimate | BQ16: Estimate | BR16: Estimate | BS16: Estimate | BT16: Estimate | BU16: Estimate | BV16: Estimate | BW16: Estimate
A17: 8 | B17: Caregivers allowance | E17: =_xlfn.XLOOKUP($C$2,$R$9:$AC$9,R17:AC17) -> 462.751 | F17: Social assistance benefits (272) | G17: Sickness and disability (7101) | Q17: 360 | R17: 315 | S17: 273.076 | T17: 346.5 | U17: 376.2 | V17: 356.4 | W17: 356.4 | X17: 356.4 | Y17: 663.791 | Z17: 420 | AA17: 465.4 | AB17: 462.751 | AC17: 739.127 | AJ17: =IF(M17=0,"","*") | AK17: =IF(N17=0,"","*") | AL17: =IF(O17=0,"","*") | AM17: =IF(P17=0,"","*") | AN17: 2012-13 Budget (p. 84) | AO17: 2012-13 Budget (p. 84) | AP17: 2014-15 Budget (p. 86) | AQ17: 2014-15 Budget (p. 86) | AR17: 2015-16 Budget (p. 89-90) | AS17: 2016-17 Budget (p. 109) | AT17: 2017-18 Budget (p. 107) | AU17: 2018-19 Budget (p. 116-17) | AV17: 2019-20 Budget (p. 114) | AW17: 2020-21 Budget (p. 176) | AX17: 2021-22 Budget (p. 171) | AY17: 2022-23 Budget (p. 132) | AZ17: 2023-24 Budget (p. 120) | BG17: =IF(M17=0,"","*") | BH17: =IF(N17=0,"","*") | BI17: =IF(O17=0,"","*") | BJ17: =IF(P17=0,"","*") | BK17: Estimate | BL17: Estimate | BM17: Actual | BN17: Estimate | BO17: Estimate | BP17: Estimate | BQ17: Estimate | BR17: Estimate | BS17: Estimate | BT17: Estimate | BU17: Estimate | BV17: Estimate | BW17: Estimate
A18: 9 | B18: Christmas Bonus | E18: =_xlfn.XLOOKUP($C$2,$R$9:$AC$9,R18:AC18) -> 340.212 | F18: Social assistance benefits (272) | G18: Social exclusion n.e.c (7107) | Q18: 300 | R18: 300 | S18: 280.7 | T18: 278.25 | U18: 283.714 | V18: 276.818 | W18: 277.293 | X18: 277.793 | Y18: 278.318 | Z18: 338.182 | AA18: 346.1 | AB18: 340.212 | AC18: 320.594 | AJ18: =IF(M18=0,"","*") | AK18: =IF(N18=0,"","*") | AL18: =IF(O18=0,"","*") | AM18: =IF(P18=0,"","*") | AN18: 2012-13 Budget (p. 84) | AO18: 2012-13 Budget (p. 84) | AP18: 2014-15 Budget (p. 86) | AQ18: 2014-15 Budget (p. 86) | AR18: 2015-16 Budget (p. 89-90) | AS18: 2016-17 Budget (p. 109) | AT18: 2017-18 Budget (p. 107) | AU18: 2018-19 Budget (p. 116-17) | AV18: 2019-20 Budget (p. 114) | AW18: 2020-21 Budget (p. 176) | AX18: 2021-22 Budget (p. 171) | AY18: 2022-23 Budget (p. 132) | AZ18: 2023-24 Budget (p. 120) | BG18: =IF(M18=0,"","*") | BH18: =IF(N18=0,"","*") | BI18: =IF(O18=0,"","*") | BJ18: =IF(P18=0,"","*") | BK18: Estimate | BL18: Estimate | BM18: Actual | BN18: Estimate | BO18: Estimate | BP18: Estimate | BQ18: Estimate | BR18: Estimate | BS18: Estimate | BT18: Estimate | BU18: Estimate | BV18: Estimate | BW18: Estimate
A19: 10 | B19: Funeral Allowance | E19: =_xlfn.XLOOKUP($C$2,$R$9:$AC$9,R19:AC19) -> 170 | F19: Social assistance benefits (272) | G19: Survivors (7103) | Q19: 170 | R19: 170 | S19: 217.834 | T19: 170 | U19: 170 | V19: 170 | W19: 170 | X19: 170 | Y19: 170 | Z19: 170 | AA19: 170 | AB19: 170 | AC19: 170 | AJ19: =IF(M19=0,"","*") | AK19: =IF(N19=0,"","*") | AL19: =IF(O19=0,"","*") | AM19: =IF(P19=0,"","*") | AN19: 2012-13 Budget (p. 84) | AO19: 2012-13 Budget (p. 84) | AP19: 2014-15 Budget (p. 86) | AQ19: 2014-15 Budget (p. 86) | AR19: 2015-16 Budget (p. 89-90) | AS19: 2016-17 Budget (p. 109) | AT19: 2017-18 Budget (p. 107) | AU19: 2018-19 Budget (p. 116-17) | AV19: 2019-20 Budget (p. 114) | AW19: 2020-21 Budget (p. 176) | AX19: 2021-22 Budget (p. 171) | AY19: 2022-23 Budget (p. 132) | AZ19: 2023-24 Budget (p. 120) | BG19: =IF(M19=0,"","*") | BH19: =IF(N19=0,"","*") | BI19: =IF(O19=0,"","*") | BJ19: =IF(P19=0,"","*") | BK19: Estimate | BL19: Estimate | BM19: Actual | BN19: Estimate | BO19: Estimate | BP19: Estimate | BQ19: Estimate | BR19: Estimate | BS19: Estimate | BT19: Estimate | BU19: Estimate | BV19: Estimate | BW19: Estimate
A20: 11 | B20: Power Subsidy | E20: =_xlfn.XLOOKUP($C$2,$R$9:$AC$9,R20:AC20) -> 84.255 | F20: Social assistance benefits (272) | G20: Social protection n.e.c (7019) | Q20: 86.4 | R20: 86.4 | S20: 75.822 | T20: 87.12 | U20: 87.21 | V20: 79.2 | W20: 79.2 | X20: 79.2 | Y20: 79.2 | Z20: 84.255 | AA20: 84.5 | AB20: 84.255 | AC20: 109.255 | AJ20: =IF(M20=0,"","*") | AK20: =IF(N20=0,"","*") | AL20: =IF(O20=0,"","*") | AM20: =IF(P20=0,"","*") | AN20: 2012-13 Budget (p. 84) | AO20: 2012-13 Budget (p. 84) | AP20: 2014-15 Budget (p. 86) | AQ20: 2014-15 Budget (p. 86) | AR20: 2015-16 Budget (p. 89-90) | AS20: 2016-17 Budget (p. 109) | AT20: 2017-18 Budget (p. 107) | AU20: 2018-19 Budget (p. 116-17) | AV20: 2019-20 Budget (p. 114) | AW20: 2020-21 Budget (p. 176) | AX20: 2021-22 Budget (p. 171) | AY20: 2022-23 Budget (p. 132) | AZ20: 2023-24 Budget (p. 120) | BG20: =IF(M20=0,"","*") | BH20: =IF(N20=0,"","*") | BI20: =IF(O20=0,"","*") | BJ20: =IF(P20=0,"","*") | BK20: Estimate | BL20: Estimate | BM20: Actual | BN20: Estimate | BO20: Estimate | BP20: Estimate | BQ20: Estimate | BR20: Estimate | BS20: Estimate | BT20: Estimate | BU20: Estimate | BV20: Estimate | BW20: Estimate
A21: 12 | B21: Special Assistance | E21: =_xlfn.XLOOKUP($C$2,$R$9:$AC$9,R21:AC21) -> 250 | F21: Social assistance benefits (272) | G21: Social exclusion n.e.c (7107) | Q21: 100 | R21: 100 | S21: 100 | T21: 100 | U21: 100 | V21: 100 | W21: 100 | X21: 100 | Y21: 100 | Z21: 250 | AA21: 250 | AB21: 250 | AC21: 250 | AJ21: =IF(M21=0,"","*") | AK21: =IF(N21=0,"","*") | AL21: =IF(O21=0,"","*") | AM21: =IF(P21=0,"","*") | AN21: 2012-13 Budget (p. 84) | AO21: 2012-13 Budget (p. 84) | AP21: 2014-15 Budget (p. 86) | AQ21: 2014-15 Budget (p. 86) | AR21: 2015-16 Budget (p. 89-90) | AS21: 2016-17 Budget (p. 109) | AT21: 2017-18 Budget (p. 107) | AU21: 2018-19 Budget (p. 116-17) | AV21: 2019-20 Budget (p. 114) | AW21: 2020-21 Budget (p. 176) | AX21: 2021-22 Budget (p. 171) | AY21: 2022-23 Budget (p. 132) | AZ21: 2023-24 Budget (p. 120) | BG21: =IF(M21=0,"","*") | BH21: =IF(N21=0,"","*") | BI21: =IF(O21=0,"","*") | BJ21: =IF(P21=0,"","*") | BK21: Estimate | BL21: Estimate | BM21: Actual | BN21: Estimate | BO21: Estimate | BP21: Estimate | BQ21: Estimate | BR21: Estimate | BS21: Estimate | BT21: Estimate | BU21: Estimate | BV21: Estimate | BW21: Estimate
A22: 13 | B22: BCI fees | E22: =_xlfn.XLOOKUP($C$2,$R$9:$AC$9,R22:AC22) -> 0 | F22: Social assistance benefits (272) | G22: Social protection n.e.c (7019) | Q22: 147 | R22: 147 | S22: 147 | T22: 147 | U22: 147 | V22: 147 | W22: 147 | X22: 147 | Y22: 147 | Z22: 175.8 | AJ22: =IF(M22=0,"","*") | AK22: =IF(N22=0,"","*") | AL22: =IF(O22=0,"","*") | AM22: =IF(P22=0,"","*") | AN22: 2012-13 Budget (p. 84) | AO22: 2012-13 Budget (p. 84) | AP22: 2014-15 Budget (p. 86) | AQ22: 2014-15 Budget (p. 86) | AR22: 2015-16 Budget (p. 89-90) | AS22: 2016-17 Budget (p. 109) | AT22: 2017-18 Budget (p. 107) | AU22: 2018-19 Budget (p. 116-17) | AV22: 2019-20 Budget (p. 114) | AW22: 2020-21 Budget (p. 176) | AX22: =IF(AA22=0,"","*") | AY22: =IF(AB22=0,"","*") | AZ22: =IF(AC22=0,"","*") | BG22: =IF(M22=0,"","*") | BH22: =IF(N22=0,"","*") | BI22: =IF(O22=0,"","*") | BJ22: =IF(P22=0,"","*") | BK22: Estimate | BL22: Estimate | BM22: Actual | BN22: Estimate | BO22: Estimate | BP22: Estimate | BQ22: Estimate | BR22: Estimate | BS22: Estimate | BT22: Estimate | BU22: =IF(AA22=0,"","*") | BV22: =IF(AB22=0,"","*") | BW22: =IF(AC22=0,"","*")
A23: 14 | E23: =_xlfn.XLOOKUP($C$2,$R$9:$AC$9,R23:AC23) -> 0 | AJ23: =IF(M23=0,"","*") | AK23: =IF(N23=0,"","*") | AL23: =IF(O23=0,"","*") | AM23: =IF(P23=0,"","*") | AN23: =IF(Q23=0,"","*") | AO23: =IF(R23=0,"","*") | AP23: =IF(S23=0,"","*") | AQ23: =IF(T23=0,"","*") | ... AZ23: =IF(AC23=0,"","*") | BG23: =IF(M23=0,"","*") | BH23: =IF(N23=0,"","*") | BI23: =IF(O23=0,"","*") | BJ23: =IF(P23=0,"","*") | BK23: =IF(Q23=0,"","*") | BL23: =IF(R23=0,"","*") | BM23: =IF(S23=0,"","*") | BN23: =IF(T23=0,"","*") | ... BW23: =IF(AC23=0,"","*")
A24: 15 | E24: =_xlfn.XLOOKUP($C$2,$R$9:$AC$9,R24:AC24) -> 0 | AJ24: =IF(M24=0,"","*") | AK24: =IF(N24=0,"","*") | AL24: =IF(O24=0,"","*") | AM24: =IF(P24=0,"","*") | AN24: =IF(Q24=0,"","*") | AO24: =IF(R24=0,"","*") | AP24: =IF(S24=0,"","*") | AQ24: =IF(T24=0,"","*") | ... AZ24: =IF(AC24=0,"","*") | BG24: =IF(M24=0,"","*") | BH24: =IF(N24=0,"","*") | BI24: =IF(O24=0,"","*") | BJ24: =IF(P24=0,"","*") | BK24: =IF(Q24=0,"","*") | BL24: =IF(R24=0,"","*") | BM24: =IF(S24=0,"","*") | BN24: =IF(T24=0,"","*") | ... BW24: =IF(AC24=0,"","*")
A25: 16 | E25: =_xlfn.XLOOKUP($C$2,$R$9:$AC$9,R25:AC25) -> 0 | AJ25: =IF(M25=0,"","*") | AK25: =IF(N25=0,"","*") | AL25: =IF(O25=0,"","*") | AM25: =IF(P25=0,"","*") | AN25: =IF(Q25=0,"","*") | AO25: =IF(R25=0,"","*") | AP25: =IF(S25=0,"","*") | AQ25: =IF(T25=0,"","*") | ... AZ25: =IF(AC25=0,"","*") | BG25: =IF(M25=0,"","*") | BH25: =IF(N25=0,"","*") | BI25: =IF(O25=0,"","*") | BJ25: =IF(P25=0,"","*") | BK25: =IF(Q25=0,"","*") | BL25: =IF(R25=0,"","*") | BM25: =IF(S25=0,"","*") | BN25: =IF(T25=0,"","*") | ... BW25: =IF(AC25=0,"","*")
A26: 17 | E26: =_xlfn.XLOOKUP($C$2,$R$9:$AC$9,R26:AC26) -> 0 | AJ26: =IF(M26=0,"","*") | AK26: =IF(N26=0,"","*") | AL26: =IF(O26=0,"","*") | AM26: =IF(P26=0,"","*") | AN26: =IF(Q26=0,"","*") | AO26: =IF(R26=0,"","*") | AP26: =IF(S26=0,"","*") | AQ26: =IF(T26=0,"","*") | ... AZ26: =IF(AC26=0,"","*") | BG26: =IF(M26=0,"","*") | BH26: =IF(N26=0,"","*") | BI26: =IF(O26=0,"","*") | BJ26: =IF(P26=0,"","*") | BK26: =IF(Q26=0,"","*") | BL26: =IF(R26=0,"","*") | BM26: =IF(S26=0,"","*") | BN26: =IF(T26=0,"","*") | ... BW26: =IF(AC26=0,"","*")
A27: 18 | E27: =_xlfn.XLOOKUP($C$2,$R$9:$AC$9,R27:AC27) -> 0 | AJ27: =IF(M27=0,"","*") | AK27: =IF(N27=0,"","*") | AL27: =IF(O27=0,"","*") | AM27: =IF(P27=0,"","*") | AN27: =IF(Q27=0,"","*") | AO27: =IF(R27=0,"","*") | AP27: =IF(S27=0,"","*") | AQ27: =IF(T27=0,"","*") | ... AZ27: =IF(AC27=0,"","*") | BG27: =IF(M27=0,"","*") | BH27: =IF(N27=0,"","*") | BI27: =IF(O27=0,"","*") | BJ27: =IF(P27=0,"","*") | BK27: =IF(Q27=0,"","*") | BL27: =IF(R27=0,"","*") | BM27: =IF(S27=0,"","*") | BN27: =IF(T27=0,"","*") | ... BW27: =IF(AC27=0,"","*")
A28: 19 | E28: =_xlfn.XLOOKUP($C$2,$R$9:$AC$9,R28:AC28) -> 0 | AJ28: =IF(M28=0,"","*") | AK28: =IF(N28=0,"","*") | AL28: =IF(O28=0,"","*") | AM28: =IF(P28=0,"","*") | AN28: =IF(Q28=0,"","*") | AO28: =IF(R28=0,"","*") | AP28: =IF(S28=0,"","*") | AQ28: =IF(T28=0,"","*") | ... AZ28: =IF(AC28=0,"","*")
A29: 20 | E29: =_xlfn.XLOOKUP($C$2,$R$9:$AC$9,R29:AC29) -> 0 | AJ29: =IF(M29=0,"","*") | AK29: =IF(N29=0,"","*") | AL29: =IF(O29=0,"","*") | AM29: =IF(P29=0,"","*") | AN29: =IF(Q29=0,"","*") | AO29: =IF(R29=0,"","*") | AP29: =IF(S29=0,"","*") | AQ29: =IF(T29=0,"","*") | ... AZ29: =IF(AC29=0,"","*")
A30: 21 | E30: =_xlfn.XLOOKUP($C$2,$R$9:$AC$9,R30:AC30) -> 0 | AJ30: =IF(M30=0,"","*") | AK30: =IF(N30=0,"","*") | AL30: =IF(O30=0,"","*") | AM30: =IF(P30=0,"","*") | AN30: =IF(Q30=0,"","*") | AO30: =IF(R30=0,"","*") | AP30: =IF(S30=0,"","*") | AQ30: =IF(T30=0,"","*") | ... AZ30: =IF(AC30=0,"","*")
A31: 22 | E31: =_xlfn.XLOOKUP($C$2,$R$9:$AC$9,R31:AC31) -> 0 | AJ31: =IF(M31=0,"","*") | AK31: =IF(N31=0,"","*") | AL31: =IF(O31=0,"","*") | AM31: =IF(P31=0,"","*") | AN31: =IF(Q31=0,"","*") | AO31: =IF(R31=0,"","*") | AP31: =IF(S31=0,"","*") | AQ31: =IF(T31=0,"","*") | ... AZ31: =IF(AC31=0,"","*")
A32: 23 | E32: =_xlfn.XLOOKUP($C$2,$R$9:$AC$9,R32:AC32) -> 0 | AJ32: =IF(M32=0,"","*") | AK32: =IF(N32=0,"","*") | AL32: =IF(O32=0,"","*") | AM32: =IF(P32=0,"","*") | AN32: =IF(Q32=0,"","*") | AO32: =IF(R32=0,"","*") | AP32: =IF(S32=0,"","*") | AQ32: =IF(T32=0,"","*") | ... AZ32: =IF(AC32=0,"","*")
A33: 24 | E33: =_xlfn.XLOOKUP($C$2,$R$9:$AC$9,R33:AC33) -> 0 | AE33: =IF(H33=0,"","*") | AF33: =IF(I33=0,"","*") | AG33: =IF(J33=0,"","*") | AH33: =IF(K33=0,"","*") | AI33: =IF(L33=0,"","*") | AJ33: =IF(M33=0,"","*") | AK33: =IF(N33=0,"","*") | AL33: =IF(O33=0,"","*") | ... AZ33: =IF(AC33=0,"","*") | BB33: =IF(H33=0,"","*") | BC33: =IF(I33=0,"","*") | BD33: =IF(J33=0,"","*") | BE33: =IF(K33=0,"","*") | BF33: =IF(L33=0,"","*") | BG33: =IF(M33=0,"","*") | BH33: =IF(N33=0,"","*") | BI33: =IF(O33=0,"","*") | ... BT33: =IF(Z33=0,"","*") | BV33: =IF(AB33=0,"","*") | BW33: =IF(AC33=0,"","*")
A34: 25 | E34: =_xlfn.XLOOKUP($C$2,$R$9:$AC$9,R34:AC34) -> 0 | AE34: =IF(H34=0,"","*") | AF34: =IF(I34=0,"","*") | AG34: =IF(J34=0,"","*") | AH34: =IF(K34=0,"","*") | AI34: =IF(L34=0,"","*") | AJ34: =IF(M34=0,"","*") | AK34: =IF(N34=0,"","*") | AL34: =IF(O34=0,"","*") | ... AZ34: =IF(AC34=0,"","*") | BB34: =IF(H34=0,"","*") | BC34: =IF(I34=0,"","*") | BD34: =IF(J34=0,"","*") | BE34: =IF(K34=0,"","*") | BF34: =IF(L34=0,"","*") | BG34: =IF(M34=0,"","*") | BH34: =IF(N34=0,"","*") | BI34: =IF(O34=0,"","*") | ... BT34: =IF(Z34=0,"","*") | BV34: =IF(AB34=0,"","*") | BW34: =IF(AC34=0,"","*")
B35: Provident fund withdrawals
A36: PF1 | B36: Retirement | D36: CINSF | E36: =_xlfn.XLOOKUP($C$2,$R$9:$AC$9,R36:AC36) -> 3110.354 | F36: Provident fund withdrawals | G36: Old age (7102) | U36: 503.481 | V36: 721.067 | W36: 640.36 | X36: 844.996 | Y36: 1502.866 | Z36: 1256.937 | AA36: 5439.896 | AB36: 3110.354 | AE36: =IF(H36=0,"","*") | AF36: =IF(I36=0,"","*") | AG36: =IF(J36=0,"","*") | AH36: =IF(K36=0,"","*") | AI36: =IF(L36=0,"","*") | AJ36: =IF(M36=0,"","*") | AK36: =IF(N36=0,"","*") | AL36: =IF(O36=0,"","*") | ... AQ36: =IF(T36=0,"","*") | AR36: 2016 Financial Accounts (p. 4) | AS36: 2016 Financial Accounts (p. 4) | AT36: 2017 Financial Accounts (p. 4) | AU36: 2018 Financial Accounts (p. 4) | AV36: 2019 Annual Report (p. 10) | AW36: 2020 Annual Report (p. 18) | AX36: 2021 Annual Report (p. 10) | AY36: 2022 Annual Report (p. 10) | AZ36: =IF(AC36=0,"","*") | BB36: =IF(H36=0,"","*") | BC36: =IF(I36=0,"","*") | BD36: =IF(J36=0,"","*") | BE36: =IF(K36=0,"","*") | BF36: =IF(L36=0,"","*") | BG36: =IF(M36=0,"","*") | BH36: =IF(N36=0,"","*") | BI36: =IF(O36=0,"","*") | ... BN36: =IF(T36=0,"","*") | BO36: Actual | BP36: Actual | BQ36: Actual | BR36: Actual | BS36: Actual | BT36: Actual | BU36: Actual | BV36: Actual | BW36: =IF(AC36=0,"","*")
A37: PF2 | B37: Death | D37: CINSF | E37: =_xlfn.XLOOKUP($C$2,$R$9:$AC$9,R37:AC37) -> 384.535 | F37: Provident fund withdrawals | G37: Survivors (7103) | U37: 194.265 | V37: 437.796 | W37: 399.598 | X37: 539.749 | Y37: 687.71 | Z37: 68.755 | AA37: 695.328 | AB37: 384.535 | AE37: =IF(H37=0,"","*") | AF37: =IF(I37=0,"","*") | AG37: =IF(J37=0,"","*") | AH37: =IF(K37=0,"","*") | AI37: =IF(L37=0,"","*") | AJ37: =IF(M37=0,"","*") | AK37: =IF(N37=0,"","*") | AL37: =IF(O37=0,"","*") | ... AQ37: =IF(T37=0,"","*") | AR37: 2016 Financial Accounts (p. 4) | AS37: 2016 Financial Accounts (p. 4) | AT37: 2017 Financial Accounts (p. 4) | AU37: 2018 Financial Accounts (p. 4) | AV37: 2019 Annual Report (p. 10) | AW37: 2020 Annual Report (p. 18) | AX37: 2021 Annual Report (p. 10) | AY37: 2022 Annual Report (p. 10) | AZ37: =IF(AC37=0,"","*") | BB37: =IF(H37=0,"","*") | BC37: =IF(I37=0,"","*") | BD37: =IF(J37=0,"","*") | BE37: =IF(K37=0,"","*") | BF37: =IF(L37=0,"","*") | BG37: =IF(M37=0,"","*") | BH37: =IF(N37=0,"","*") | BI37: =IF(O37=0,"","*") | ... BN37: =IF(T37=0,"","*") | BO37: Actual | BP37: Actual | BQ37: Actual | BR37: Actual | BS37: Actual | BT37: Actual | BU37: Actual | BV37: Actual | BW37: =IF(AC37=0,"","*")
A38: PF3 | B38: Insurance proceeds | D38: CINSF | E38: =_xlfn.XLOOKUP($C$2,$R$9:$AC$9,R38:AC38) -> 176.115 | F38: Provident fund withdrawals | U38: 148.396 | V38: 294.643 | W38: 277.021 | X38: 336.626 | Y38: 474.073 | Z38: 121.199 | AA38: 612.272 | AB38: 176.115 | AE38: =IF(H38=0,"","*") | AF38: =IF(I38=0,"","*") | AG38: =IF(J38=0,"","*") | AH38: =IF(K38=0,"","*") | AI38: =IF(L38=0,"","*") | AJ38: =IF(M38=0,"","*") | AK38: =IF(N38=0,"","*") | AL38: =IF(O38=0,"","*") | ... AQ38: =IF(T38=0,"","*") | AR38: 2016 Financial Accounts (p. 4) | AS38: 2016 Financial Accounts (p. 4) | AT38: 2017 Financial Accounts (p. 4) | AU38: 2018 Financial Accounts (p. 4) | AV38: 2019 Annual Report (p. 10) | AW38: 2020 Annual Report (p. 18) | AX38: 2021 Annual Report (p. 10) | AY38: 2022 Annual Report (p. 10) | AZ38: =IF(AC38=0,"","*") | BB38: =IF(H38=0,"","*") | BC38: =IF(I38=0,"","*") | BD38: =IF(J38=0,"","*") | BE38: =IF(K38=0,"","*") | BF38: =IF(L38=0,"","*") | BG38: =IF(M38=0,"","*") | BH38: =IF(N38=0,"","*") | BI38: =IF(O38=0,"","*") | ... BN38: =IF(T38=0,"","*") | BO38: Actual | BP38: Actual | BQ38: Actual | BR38: Actual | BS38: Actual | BT38: Actual | BU38: Actual | BV38: Actual | BW38: =IF(AC38=0,"","*")
A39: PF4 | B39: Pensions | D39: CINSF | E39: =_xlfn.XLOOKUP($C$2,$R$9:$AC$9,R39:AC39) -> 888.289 | F39: Provident fund withdrawals | G39: Old age (7102) | U39: 254.699 | V39: 327.933 | W39: 419.504 | X39: 502.859 | Y39: 144.761 | Z39: 775.052 | AA39: 813.135 | AB39: 888.289 | AE39: =IF(H39=0,"","*") | AF39: =IF(I39=0,"","*") | AG39: =IF(J39=0,"","*") | AH39: =IF(K39=0,"","*") | AI39: =IF(L39=0,"","*") | AJ39: =IF(M39=0,"","*") | AK39: =IF(N39=0,"","*") | AL39: =IF(O39=0,"","*") | ... AQ39: =IF(T39=0,"","*") | AR39: 2016 Financial Accounts (p. 4) | AS39: 2016 Financial Accounts (p. 4) | AT39: 2017 Financial Accounts (p. 4) | AU39: 2018 Financial Accounts (p. 4) | AV39: 2019 Annual Report (p. 10) | AW39: 2020 Annual Report (p. 18) | AX39: 2021 Annual Report (p. 10) | AY39: 2022 Annual Report (p. 10) | AZ39: =IF(AC39=0,"","*") | BB39: =IF(H39=0,"","*") | BC39: =IF(I39=0,"","*") | BD39: =IF(J39=0,"","*") | BE39: =IF(K39=0,"","*") | BF39: =IF(L39=0,"","*") | BG39: =IF(M39=0,"","*") | BH39: =IF(N39=0,"","*") | BI39: =IF(O39=0,"","*") | ... BN39: =IF(T39=0,"","*") | BO39: Actual | BP39: Actual | BQ39: Actual | BR39: Actual | BS39: Actual | BT39: Actual | BU39: Actual | BV39: Actual | BW39: =IF(AC39=0,"","*")
A40: PF5 | B40: Temporary and permanent disablement | D40: CINSF | E40: =_xlfn.XLOOKUP($C$2,$R$9:$AC$9,R40:AC40) -> 205.535 | F40: Provident fund withdrawals | G40: Sickness and disability (7101) | Y40: 14.355 | Z40: 60.033 | AA40: 60.033 | AB40: 205.535 | AE40: =IF(H40=0,"","*") | AF40: =IF(I40=0,"","*") | AG40: =IF(J40=0,"","*") | AH40: =IF(K40=0,"","*") | AI40: =IF(L40=0,"","*") | AJ40: =IF(M40=0,"","*") | AK40: =IF(N40=0,"","*") | AL40: =IF(O40=0,"","*") | ... AU40: =IF(X40=0,"","*") | AV40: 2019 Annual Report (p. 10) | AW40: 2020 Annual Report (p. 18) | AX40: 2021 Annual Report (p. 10) | AY40: 2022 Annual Report (p. 10) | AZ40: =IF(AC40=0,"","*") | BB40: =IF(H40=0,"","*") | BC40: =IF(I40=0,"","*") | BD40: =IF(J40=0,"","*") | BE40: =IF(K40=0,"","*") | BF40: =IF(L40=0,"","*") | BG40: =IF(M40=0,"","*") | BH40: =IF(N40=0,"","*") | BI40: =IF(O40=0,"","*") | ... BR40: =IF(X40=0,"","*") | BS40: Actual | BT40: Actual | BU40: Actual | BV40: Actual | BW40: =IF(AC40=0,"","*")
...

Sheet FJI
B1: Fiji
B2: Latest year of complete data | C2: 2022-23
B3: Budget cycle: | C3: August 1st - July 31st
B4: Currency | C4: FDJ
B5: Country code | C5: FJI
B6: Unit | C6: thousands
H7: Time series | AE7: Sources | BB7: Budgeted / actual
H8: 2003 | I8: 2004 | J8: 2005 | K8: 2006 | L8: 2007 | M8: 2008 | N8: 2009 | O8: 2010 | P8: 2011 | Q8: 2012 | R8: 2013 | S8: 2014 | T8: 2015 | U8: 2016 | V8: 2017 | W8: 2018 | X8: 2019 | Y8: 2020 | Z8: 2021 | AA8: 2022 | AB8: 2023 | AC8: 2024
B9: Programme | C9: Year Introduced | D9: Administrator | E9: =_xlfn.CONCAT("Expenditure (",C2,"), ",C4," ",C6,"") -> Expenditure (2022-23), FDJ thousands | F9: Economic classicfication (Expense) | G9: COFOG | P9: 2011 | Q9: 2012 | R9: 2013 | S9: 2014 | T9: 2015 | U9: 2016 | V9: 2016-17 | W9: 2017-18 | X9: 2018-19 | Y9: 2019-20 | Z9: 2020-21 | AA9: 2021-22 | AB9: 2022-23 | AC9: 2023-24 | AE9: =H9 -> 0 | AF9: =I9 -> 0 | AG9: =J9 -> 0 | AH9: =K9 -> 0 | AI9: =L9 -> 0 | AJ9: =M9 -> 0 | AK9: =N9 -> 0 | AL9: =O9 -> 0 | ... AZ9: =AC9 -> 2023-24 | BB9: =H9 -> 0 | BC9: =I9 -> 0 | BD9: =J9 -> 0 | BE9: =K9 -> 0 | BF9: =L9 -> 0 | BG9: =M9 -> 0 | BH9: =N9 -> 0 | BI9: =O9 -> 0 | ... BW9: =AC9 -> 2023-24
A10: 1 | B10: Social Pension Scheme | C10: 2013 | D10: MWCPA | E10: =_xlfn.XLOOKUP($C$2,$R$9:$AC$9,R10:AC10) -> 55000 | F10: Social assistance benefits (272) | G10: Old age (7102) | R10: 3240 | S10: 3000 | T10: 8000 | U10: 13000 | V10: 14000 | W10: 37200.35 | X10: 47434.56 | Y10: 46000 | Z10: 55301 | AA10: 53956.958 | AB10: 55000 | AC10: 78156 | AE10: =IF(H10=0,"","*") | AF10: =IF(I10=0,"","*") | AG10: =IF(J10=0,"","*") | AH10: =IF(K10=0,"","*") | AI10: =IF(L10=0,"","*") | AJ10: =IF(M10=0,"","*") | AK10: =IF(N10=0,"","*") | AL10: =IF(O10=0,"","*") | ... AN10: =IF(Q10=0,"","*") | AO10: 2013 Budget Estimates (p. 181) | AP10: 2014 Budget Estimates (p. 191) | AQ10: 2015 Budget Estimates (p. 195) | AR10: 2016 Budget Estimates (p. 173) | AS10: 2016-17 Budget Estimates (p. 179) | AT10: 2017-18 Budget Estimates (p. 165) | AU10: 2018-19 Budget Estimates (p. 164) | AV10: 2019-20 Budget Estimates (p. 163) | AW10: 2020-21 Budget Estimates (p. 153) | AX10: 2021-22 Budget Estimates (p. 154) | AY10: 2022-23 Budget Estimates (p. 153) | AZ10: 2023-24 Budget Estimates (p. 169) | BB10: =IF(H10=0,"","*") | BC10: =IF(I10=0,"","*") | BD10: =IF(J10=0,"","*") | BE10: =IF(K10=0,"","*") | BF10: =IF(L10=0,"","*") | BG10: =IF(M10=0,"","*") | BH10: =IF(N10=0,"","*") | BI10: =IF(O10=0,"","*") | ... BK10: =IF(Q10=0,"","*") | BL10: Budgeted | BM10: Budgeted | BN10: Budgeted | BO10: Budgeted | BP10: Budgeted | BQ10: Budgeted | BR10: Budgeted | BS10: Budgeted | BT10: Budgeted | BU10: Budgeted | BV10: Budgeted | BW10: Budgeted
A11: 2 | B11: Family Assistance Scheme / Poverty Benefit Scheme | C11: 2013 | D11: MWCPA | E11: =_xlfn.XLOOKUP($C$2,$R$9:$AC$9,R11:AC11) -> 34000 | F11: Social assistance benefits (272) | G11: Social exclusion n.e.c (7107) | Q11: 15000 | R11: 22660 | S11: 22011.22 | T11: 22000 | U11: 22000 | V11: 23200 | W11: 38050.931 | X11: 38050.931 | Y11: 36000 | Z11: 38336 | AA11: 31667.542 | AB11: 34000 | AC11: 45552 | AE11: =IF(H11=0,"","*") | AF11: =IF(I11=0,"","*") | AG11: =IF(J11=0,"","*") | AH11: =IF(K11=0,"","*") | AI11: =IF(L11=0,"","*") | AJ11: =IF(M11=0,"","*") | AK11: =IF(N11=0,"","*") | AL11: =IF(O11=0,"","*") | AM11: =IF(P11=0,"","*") | AN11: 2012 Budget Estimates (p. 179) | AO11: 2013 Budget Estimates (p. 181) | AP11: 2014 Budget Estimates (p. 191) | AQ11: 2015 Budget Estimates (p. 195) | AR11: 2016 Budget Estimates (p. 173) | AS11: 2016-17 Budget Estimates (p. 179) | AT11: 2017-18 Budget Estimates (p. 165) | AU11: 2018-19 Budget Estimates (p. 164) | AV11: 2019-20 Budget Estimates (p. 163) | AW11: 2020-21 Budget Estimates (p. 153) | AX11: 2021-22 Budget Estimates (p. 154) | AY11: 2022-23 Budget Estimates (p. 153) | AZ11: 2023-24 Budget Estimates (p. 169) | BB11: =IF(H11=0,"","*") | BC11: =IF(I11=0,"","*") | BD11: =IF(J11=0,"","*") | BE11: =IF(K11=0,"","*") | BF11: =IF(L11=0,"","*") | BG11: =IF(M11=0,"","*") | BH11: =IF(N11=0,"","*") | BI11: =IF(O11=0,"","*") | BJ11: =IF(P11=0,"","*") | BK11: Budgeted | BL11: Budgeted | BM11: Budgeted | BN11: Budgeted | BO11: Budgeted | BP11: Budgeted | BQ11: Budgeted | BR11: Budgeted | BS11: Budgeted | BT11: Budgeted | BU11: Budgeted | BV11: Budgeted | BW11: Budgeted
A12: 3 | B12: Child Protection Allowance / Care and Protection Program | C12: 2013 | D12: MWCPA | E12: =_xlfn.XLOOKUP($C$2,$R$9:$AC$9,R12:AC12) -> 13741.621 | F12: Social assistance benefits (272) | G12: Family and children (7104) | Q12: 4400 | R12: 5990 | S12: 4530 | T12: 2000 | U12: 3200 | V12: 3500 | W12: 6807.589 | X12: 9312.936 | Y12: 8000 | Z12: 12386 | AA12: 11312 | AB12: 13741.621 | AC12: 19911.48 | AE12: =IF(H12=0,"","*") | AF12: =IF(I12=0,"","*") | AG12: =IF(J12=0,"","*") | AH12: =IF(K12=0,"","*") | AI12: =IF(L12=0,"","*") | AJ12: =IF(M12=0,"","*") | AK12: =IF(N12=0,"","*") | AL12: =IF(O12=0,"","*") | AM12: =IF(P12=0,"","*") | AN12: 2012 Budget Estimates (p. 179) | AO12: 2013 Budget Estimates (p. 181) | AP12: 2014 Budget Estimates (p. 191) | AQ12: 2015 Budget Estimates (p. 195) | AR12: 2016 Budget Estimates (p. 173) | AS12: 2016-17 Budget Estimates (p. 179) | AT12: 2017-18 Budget Estimates (p. 165) | AU12: 2018-19 Budget Estimates (p. 164) | AV12: 2019-20 Budget Estimates (p. 163) | AW12: 2020-21 Budget Estimates (p. 153) | AX12: 2021-22 Budget Estimates (p. 154) | AY12: 2022-23 Budget Estimates (p. 153) | AZ12: 2023-24 Budget Estimates (p. 169) | BB12: =IF(H12=0,"","*") | BC12: =IF(I12=0,"","*") | BD12: =IF(J12=0,"","*") | BE12: =IF(K12=0,"","*") | BF12: =IF(L12=0,"","*") | BG12: =IF(M12=0,"","*") | BH12: =IF(N12=0,"","*") | BI12: =IF(O12=0,"","*") | BJ12: =IF(P12=0,"","*") | BK12: Budgeted | BL12: Budgeted | BM12: Budgeted | BN12: Budgeted | BO12: Budgeted | BP12: Budgeted | BQ12: Budgeted | BR12: Budgeted | BS12: Budgeted | BT12: Budgeted | BU12: Budgeted | BV12: Budgeted | BW12: Budgeted
A13: 4 | B13: Allowance for people with disabilities | C13: 42767 | D13: MWCPA | E13: =_xlfn.XLOOKUP($C$2,$R$9:$AC$9,R13:AC13) -> 10788.541 | F13: Social assistance benefits (272) | G13: Sickness and disability (7101) | W13: 7974.736 | X13: 6850.519 | Y13: 5000 | Z13: 9356 | AA13: 10788.541 | AB13: 10788.541 | AC13: 16360.032 | AE13: =IF(H13=0,"","*") | AF13: =IF(I13=0,"","*") | AG13: =IF(J13=0,"","*") | AH13: =IF(K13=0,"","*") | AI13: =IF(L13=0,"","*") | AJ13: =IF(M13=0,"","*") | AK13: =IF(N13=0,"","*") | AL13: =IF(O13=0,"","*") | ... AS13: =IF(V13=0,"","*") | AT13: 2017-18 Budget Estimates (p. 165) | AU13: 2018-19 Budget Estimates (p. 164) | AV13: 2019-20 Budget Estimates (p. 163) | AW13: 2020-21 Budget Estimates (p. 153) | AX13: 2021-22 Budget Estimates (p. 154) | AY13: 2022-23 Budget Estimates (p. 153) | AZ13: 2023-24 Budget Estimates (p. 169) | BB13: =IF(H13=0,"","*") | BC13: =IF(I13=0,"","*") | BD13: =IF(J13=0,"","*") | BE13: =IF(K13=0,"","*") | BF13: =IF(L13=0,"","*") | BG13: =IF(M13=0,"","*") | BH13: =IF(N13=0,"","*") | BI13: =IF(O13=0,"","*") | ... BP13: =IF(V13=0,"","*") | BQ13: Budgeted | BR13: Budgeted | BS13: Budgeted | BT13: Budgeted | BU13: Budgeted | BV13: Budgeted | BW13: Budgeted
A14: 5 | B14: Food Voucher Program for Rural Pregnant Women | C14: 2010 | D14: MWCPA | E14: =_xlfn.XLOOKUP($C$2,$R$9:$AC$9,R14:AC14) -> 800 | F14: Social assistance benefits (272) | G14: Family and children (7104) | S14: 1300 | T14: 1000 | U14: 500 | V14: 500 | W14: 1651.35 | X14: 1651.35 | Y14: 900 | Z14: 1200 | AA14: 555.7 | AB14: 800 | AC14: 800 | AE14: =IF(H14=0,"","*") | AF14: =IF(I14=0,"","*") | AG14: =IF(J14=0,"","*") | AH14: =IF(K14=0,"","*") | AI14: =IF(L14=0,"","*") | AJ14: =IF(M14=0,"","*") | AK14: =IF(N14=0,"","*") | AL14: =IF(O14=0,"","*") | ... AO14: =IF(R14=0,"","*") | AP14: 2014 Budget Estimates (p. 191) | AQ14: 2015 Budget Estimates (p. 195) | AR14: 2016 Budget Estimates (p. 173) | AS14: 2016-17 Budget Estimates (p. 179) | AT14: 2017-18 Budget Estimates (p. 165) | AU14: 2018-19 Budget Estimates (p. 164) | AV14: 2019-20 Budget Estimates (p. 163) | AW14: 2020-21 Budget Estimates (p. 153) | AX14: 2021-22 Budget Estimates (p. 154) | AY14: 2022-23 Budget Estimates (p. 153) | AZ14: 2023-24 Budget Estimates (p. 169) | BB14: =IF(H14=0,"","*") | BC14: =IF(I14=0,"","*") | BD14: =IF(J14=0,"","*") | BE14: =IF(K14=0,"","*") | BF14: =IF(L14=0,"","*") | BG14: =IF(M14=0,"","*") | BH14: =IF(N14=0,"","*") | BI14: =IF(O14=0,"","*") | ... BL14: =IF(R14=0,"","*") | BM14: Budgeted | BN14: Budgeted | BO14: Budgeted | BP14: Budgeted | BQ14: Budgeted | BR14: Budgeted | BS14: Budgeted | BT14: Budgeted | BU14: Budgeted | BV14: Budgeted | BW14: Budgeted
A15: 6 | B15: Bus Fare Programme for Old/Disabled Persons | D15: MWCPA | E15: =_xlfn.XLOOKUP($C$2,$R$9:$AC$9,R15:AC15) -> 10000 | F15: Social assistance benefits (272) | G15: Old age (7102) | R15: 150 | S15: 150 | U15: 150 | W15: 20 | X15: 20 | Y15: 10000 | Z15: 6500 | AA15: 6000 | AB15: 10000 | AC15: 10000 | AE15: =IF(H15=0,"","*") | AF15: =IF(I15=0,"","*") | AG15: =IF(J15=0,"","*") | AH15: =IF(K15=0,"","*") | AI15: =IF(L15=0,"","*") | AJ15: =IF(M15=0,"","*") | AK15: =IF(N15=0,"","*") | AL15: =IF(O15=0,"","*") | ... AN15: =IF(Q15=0,"","*") | AO15: 2013 Budget Estimates (p. 181) | AP15: 2014 Budget Estimates (p. 191) | AQ15: =IF(T15=0,"","*") | AR15: 2016 Budget Estimates (p. 173) | AS15: =IF(V15=0,"","*") | AT15: 2017-18 Budget Estimates (p. 165) | AU15: 2018-19 Budget Estimates (p. 164) | AV15: 2019-20 Budget Estimates (p. 163) | AW15: 2020-21 Budget Estimates (p. 153) | AX15: 2021-22 Budget Estimates (p. 154) | AY15: 2022-23 Budget Estimates (p. 153) | AZ15: 2023-24 Budget Estimates (p. 169) | BB15: =IF(H15=0,"","*") | BC15: =IF(I15=0,"","*") | BD15: =IF(J15=0,"","*") | BE15: =IF(K15=0,"","*") | BF15: =IF(L15=0,"","*") | BG15: =IF(M15=0,"","*") | BH15: =IF(N15=0,"","*") | BI15: =IF(O15=0,"","*") | ... BK15: =IF(Q15=0,"","*") | BL15: Budgeted | BM15: Budgeted | BN15: =IF(T15=0,"","*") | BO15: Budgeted | BP15: =IF(V15=0,"","*") | BQ15: Budgeted | BR15: Budgeted | BS15: Budgeted | BT15: Budgeted | BU15: Budgeted | BV15: Budgeted | BW15: Budgeted
A16: 7 | B16: Housing Assistance and Relief Trust (HART) Rental subsidy | C16: 1970 | D16: Public Rental Board, MHCD | E16: =_xlfn.XLOOKUP($C$2,$R$9:$AC$9,R16:AC16) -> 290 | F16: Social assistance benefits (272) | G16: Housing (7106) | Q16: 600 | R16: 600 | S16: 1000 | T16: 500 | U16: 500 | V16: 500 | W16: 500 | X16: 500 | Y16: 500 | Z16: 400 | AA16: 100 | AB16: 290 | AC16: 500 | AE16: =IF(H16=0,"","*") | AF16: =IF(I16=0,"","*") | AG16: =IF(J16=0,"","*") | AH16: =IF(K16=0,"","*") | AI16: =IF(L16=0,"","*") | AJ16: =IF(M16=0,"","*") | AK16: =IF(N16=0,"","*") | AL16: =IF(O16=0,"","*") | AM16: =IF(P16=0,"","*") | AN16: 2012 Budget Estimates (p. 179) | AO16: 2013 Budget Estimates (p. 175) | AP16: 2014 Budget Estimates (p. 185) | AQ16: 2015 Budget Estimates (p. 189) | AR16: 2016 Budget Estimates (p. 167) | AS16: 2016-17 Budget Estimates (p. 173) | AT16: 2017-18 Budget Estimates (p. 159) | AU16: 2018-19 Budget Estimates (p. 158) | AV16: 2019-20 Budget Estimates (p. 157) | AW16: 2020-21 Budget Estimates (p. 147) | AX16: 2021-22 Budget Estimates (p. 148) | AY16: 2022-23 Budget Estimates (p. 147) | AZ16: 2023-24 Budget Estimates (p. 163) | BB16: =IF(H16=0,"","*") | BC16: =IF(I16=0,"","*") | BD16: =IF(J16=0,"","*") | BE16: =IF(K16=0,"","*") | BF16: =IF(L16=0,"","*") | BG16: =IF(M16=0,"","*") | BH16: =IF(N16=0,"","*") | BI16: =IF(O16=0,"","*") | BJ16: =IF(P16=0,"","*") | BK16: Budgeted | BL16: Budgeted | BM16: Budgeted | BN16: Budgeted | BO16: Budgeted | BP16: Budgeted | BQ16: Budgeted | BR16: Budgeted | BS16: Budgeted | BT16: Budgeted | BU16: Budgeted | BV16: Budgeted | BW16: Budgeted
A17: 8 | B17: Public Rental Board Subsidy | C17: 1989 | D17: Public Rental Board, MHCD | E17: =_xlfn.XLOOKUP($C$2,$R$9:$AC$9,R17:AC17) -> 1386.485 | F17: Social assistance benefits (272) | G17: Sickness and disability (7101) | Q17: 1000 | R17: 1000 | S17: 1000 | T17: 1000 | U17: 1000 | V17: 1000 | W17: 1000 | X17: 1300 | Y17: 1600 | Z17: 1300 | AA17: 600 | AB17: 1386.485 | AC17: 1116.451 | AE17: =IF(H17=0,"","*") | AF17: =IF(I17=0,"","*") | AG17: =IF(J17=0,"","*") | AH17: =IF(K17=0,"","*") | AI17: =IF(L17=0,"","*") | AJ17: =IF(M17=0,"","*") | AK17: =IF(N17=0,"","*") | AL17: =IF(O17=0,"","*") | AM17: =IF(P17=0,"","*") | AN17: 2012 Budget Estimates (p. 179) | AO17: 2013 Budget Estimates (p. 175) | AP17: 2014 Budget Estimates (p. 185) | AQ17: 2015 Budget Estimates (p. 189) | AR17: 2016 Budget Estimates (p. 167) | AS17: 2016-17 Budget Estimates (p. 173) | AT17: 2017-18 Budget Estimates (p. 159) | AU17: 2018-19 Budget Estimates (p. 158) | AV17: 2019-20 Budget Estimates (p. 157) | AW17: 2020-21 Budget Estimates (p. 147) | AX17: 2021-22 Budget Estimates (p. 148) | AY17: 2022-23 Budget Estimates (p. 147) | AZ17: 2023-24 Budget Estimates (p. 163) | BB17: =IF(H17=0,"","*") | BC17: =IF(I17=0,"","*") | BD17: =IF(J17=0,"","*") | BE17: =IF(K17=0,"","*") | BF17: =IF(L17=0,"","*") | BG17: =IF(M17=0,"","*") | BH17: =IF(N17=0,"","*") | BI17: =IF(O17=0,"","*") | BJ17: =IF(P17=0,"","*") | BK17: Budgeted | BL17: Budgeted | BM17: Budgeted | BN17: Budgeted | BO17: Budgeted | BP17: Budgeted | BQ17: Budgeted | BR17: Budgeted | BS17: Budgeted | BT17: Budgeted | BU17: Budgeted | BV17: Budgeted | BW17: Budgeted
A18: 9 | B18: Housing assistance for people with disabilities | C18: 2018 | D18: MHCD | E18: =_xlfn.XLOOKUP($C$2,$R$9:$AC$9,R18:AC18) -> 250 | F18: Social assistance benefits (272) | G18: Old age (7102) | Z18: 100 | AA18: 100 | AB18: 250 | AC18: 500 | AE18: =IF(H18=0,"","*") | AF18: =IF(I18=0,"","*") | AG18: =IF(J18=0,"","*") | AH18: =IF(K18=0,"","*") | AI18: =IF(L18=0,"","*") | AJ18: =IF(M18=0,"","*") | AK18: =IF(N18=0,"","*") | AL18: =IF(O18=0,"","*") | ... AV18: =IF(Y18=0,"","*") | AW18: 2020-21 Budget Estimates (p. 147) | AX18: 2021-22 Budget Estimates (p. 148) | AY18: 2022-23 Budget Estimates (p. 147) | AZ18: 2023-24 Budget Estimates (p. 163) | BB18: =IF(H18=0,"","*") | BC18: =IF(I18=0,"","*") | BD18: =IF(J18=0,"","*") | BE18: =IF(K18=0,"","*") | BF18: =IF(L18=0,"","*") | BG18: =IF(M18=0,"","*") | BH18: =IF(N18=0,"","*") | BI18: =IF(O18=0,"","*") | ... BS18: =IF(Y18=0,"","*") | BT18: Budgeted | BU18: Budgeted | BV18: Budgeted | BW18: Budgeted
A19: 10 | B19: Fiji Servicemen’s After Care Fund | C19: 2017 | D19: MDNS | E19: =_xlfn.XLOOKUP($C$2,$R$9:$AC$9,R19:AC19) -> 12452.688 | F19: Public servant benefits (273) | G19: Sickness and disability (7101) | Q19: 6881.645 | R19: 6881.645 | S19: 6881.645 | T19: 8400 | U19: 8776.749 | V19: 8776.749 | W19: 10985.749 | X19: 11685.749 | Y19: 11685.789 | Z19: 11486 | AA19: 12045.239 | AB19: 12452.688 | AC19: 14947.35 | AE19: =IF(H19=0,"","*") | AF19: =IF(I19=0,"","*") | AG19: =IF(J19=0,"","*") | AH19: =IF(K19=0,"","*") | AI19: =IF(L19=0,"","*") | AJ19: =IF(M19=0,"","*") | AK19: =IF(N19=0,"","*") | AL19: =IF(O19=0,"","*") | AM19: =IF(P19=0,"","*") | AN19: 2012 Budget Estimates (p. 179) | AO19: 2013 Budget Estimates (p. 33) | AP19: 2014 Budget Estimates (p. 35) | AQ19: 2015 Budget Estimates (p. 31) | AR19: 2016 Budget Estimates (p. 27) | AS19: 2016-17 Budget Estimates (p. 27) | AT19: 2017-18 Budget Estimates (p. 27) | AU19: 2018-19 Budget Estimates (p. 28) | AV19: 2019-20 Budget Estimates (p. 43) | AW19: 2020-21 Budget Estimates (p. 45) | AX19: 2021-22 Budget Estimates (p. 46) | AY19: 2022-23 Budget Estimates (p. 45) | AZ19: 2023-24 Budget Estimates (p. 17) | BB19: =IF(H19=0,"","*") | BC19: =IF(I19=0,"","*") | BD19: =IF(J19=0,"","*") | BE19: =IF(K19=0,"","*") | BF19: =IF(L19=0,"","*") | BG19: =IF(M19=0,"","*") | BH19: =IF(N19=0,"","*") | BI19: =IF(O19=0,"","*") | BJ19: =IF(P19=0,"","*") | BK19: Budgeted | BL19: Budgeted | BM19: Budgeted | BN19: Budgeted | BO19: Budgeted | BP19: Budgeted | BQ19: Budgeted | BR19: Budgeted | BS19: Budgeted | BT19: Budgeted | BU19: Budgeted | BV19: Budgeted | BW19: Budgeted
A20: 11 | B20: Accident Compensation Commission of Fiji (ACCF) | C20: 2014 | D20: MEPIR | E20: =_xlfn.XLOOKUP($C$2,$R$9:$AC$9,R20:AC20) -> 2406 | F20: Social insurance benefits (271) | G20: Old age (7102) | W20: 1000 | X20: 1700 | Y20: 2100 | Z20: 2184.5 | AA20: 2156 | AB20: 2406 | AC20: 2845.7 | AE20: =IF(H20=0,"","*") | AF20: =IF(I20=0,"","*") | AG20: =IF(J20=0,"","*") | AH20: =IF(K20=0,"","*") | AI20: =IF(L20=0,"","*") | AJ20: =IF(M20=0,"","*") | AK20: =IF(N20=0,"","*") | AL20: =IF(O20=0,"","*") | ... AS20: =IF(V20=0,"","*") | AT20: 2019-20 Budget Estimates (p. 58) | AU20: 2020-21 Budget Estimates (p. 60) | AV20: 2020-21 Budget Estimates (p. 60) | AW20: 2022-23 Budget Estimates (p. 60) | AX20: 2023-24 Budget Estimates (p. 68) | AY20: 2023-24 Budget Estimates (p. 68) | AZ20: 2023-24 Budget Estimates (p. 68) | BB20: =IF(H20=0,"","*") | BC20: =IF(I20=0,"","*") | BD20: =IF(J20=0,"","*") | BE20: =IF(K20=0,"","*") | BF20: =IF(L20=0,"","*") | BG20: =IF(M20=0,"","*") | BH20: =IF(N20=0,"","*") | BI20: =IF(O20=0,"","*") | ... BP20: =IF(V20=0,"","*") | BQ20: Actual | BR20: Actual | BS20: Revised estimate | BT20: Actual | BU20: Actual | BV20: Revised estimate | BW20: Budgeted
A21: 12 | B21: Pensions, gratuities and compassionate allowances | D21: Ministry of Economy | E21: =_xlfn.XLOOKUP($C$2,$R$9:$AC$9,R21:AC21) -> 31773.8 | F21: Public servant benefits (273) | G21: Old age (7102) | Q21: 36371.1 | R21: 34340.6 | S21: 36785.4 | T21: 39179.9 | U21: 38012.3 | V21: 34880.4 | W21: 36956.7 | X21: 34418.5 | Y21: 29620 | Z21: 30760.7 | AA21: 30022.1 | AB21: 31773.8 | AC21: 36539.9 | AE21: =IF(H21=0,"","*") | AF21: =IF(I21=0,"","*") | AG21: =IF(J21=0,"","*") | AH21: =IF(K21=0,"","*") | AI21: =IF(L21=0,"","*") | AJ21: =IF(M21=0,"","*") | AK21: =IF(N21=0,"","*") | AL21: =IF(O21=0,"","*") | AM21: =IF(P21=0,"","*") | AN21: 2014 Budget Estimates (p. 332) | AO21: 2015 Budget Estimates (p. 346)) | AP21: 2016 Budget Estimates (p. 300) | AQ21: 2016-17 Budget Estimates (p. 306) | AR21: 2017-18 Budget Estimates (p. 300) | AS21: 2018-19 Budget Estimates (p. 295) | AT21: 2019-20 Budget Estimates (p. 282) | AU21: 2020-21 Budget Estimates (p. 278) | AV21: 2020-21 Budget Estimates (p. 278) | AW21: 2022-23 Budget Estimates (p. 280) | AX21: 2023-24 Budget Estimates (p. 308) | AY21: 2023-24 Budget Estimates (p. 308) | AZ21: 2023-24 Budget Estimates (p. 308) | BB21: =IF(H21=0,"","*") | BC21: =IF(I21=0,"","*") | BD21: =IF(J21=0,"","*") | BE21: =IF(K21=0,"","*") | BF21: =IF(L21=0,"","*") | BG21: =IF(M21=0,"","*") | BH21: =IF(N21=0,"","*") | BI21: =IF(O21=0,"","*") | BJ21: =IF(P21=0,"","*") | BK21: Actual | BL21: Actual | BM21: Actual | BN21: Actual | BO21: Actual | BP21: Actual | BQ21: Actual | BR21: Actual | BS21: Revised estimate | BT21: Actual | BU21: Actual | BV21: Revised estimate | BW21: Budgeted
A22: 13 | B22: Social Welfare Top-Up (DFAT) | C22: 2020-21 | D22: MWCPA | E22: =_xlfn.XLOOKUP($C$2,$R$9:$AC$9,R22:AC22) -> 0 | F22: Social assistance benefits (272) | G22: Social protection n.e.c (7019) | Z22: 7804.792 | AE22: =IF(H22=0,"","*") | AF22: =IF(I22=0,"","*") | AG22: =IF(J22=0,"","*") | AH22: =IF(K22=0,"","*") | AI22: =IF(L22=0,"","*") | AJ22: =IF(M22=0,"","*") | AK22: =IF(N22=0,"","*") | AL22: =IF(O22=0,"","*") | ... AV22: =IF(Y22=0,"","*") | AW22: 2020-21 Budget Estimates (p. 153) | AX22: =IF(AA22=0,"","*") | AY22: =IF(AB22=0,"","*") | AZ22: =IF(AC22=0,"","*") | BB22: =IF(H22=0,"","*") | BC22: =IF(I22=0,"","*") | BD22: =IF(J22=0,"","*") | BE22: =IF(K22=0,"","*") | BF22: =IF(L22=0,"","*") | BG22: =IF(M22=0,"","*") | BH22: =IF(N22=0,"","*") | BI22: =IF(O22=0,"","*") | ... BS22: =IF(Y22=0,"","*") | BT22: Budgeted | BU22: =IF(AA22=0,"","*") | BV22: =IF(AB22=0,"","*") | BW22: =IF(AC22=0,"","*")
A23: 14 | B23: Child protection programme | D23: MWCPA | E23: =_xlfn.XLOOKUP($C$2,$R$9:$AC$9,R23:AC23) -> 100 | F23: Social assistance benefits (272) | G23: Family and children (7104) | R23: 150 | S23: 215.43 | U23: 500 | V23: 1000 | W23: 1256.785 | X23: 1256.785 | Y23: 500 | Z23: 100 | AA23: 50 | AB23: 100 | AC23: 200 | AE23: =IF(H23=0,"","*") | AF23: =IF(I23=0,"","*") | AG23: =IF(J23=0,"","*") | AH23: =IF(K23=0,"","*") | AI23: =IF(L23=0,"","*") | AJ23: =IF(M23=0,"","*") | AK23: =IF(N23=0,"","*") | AL23: =IF(O23=0,"","*") | ... AN23: =IF(Q23=0,"","*") | AO23: 2013 Budget Estimates (p. 181) | AP23: 2014 Budget Estimates (p. 191) | AQ23: =IF(T23=0,"","*") | AR23: 2016 Budget Estimates (p. 173) | AS23: 2016-17 Budget Estimates (p. 179) | AT23: 2017-18 Budget Estimates (p. 165) | AU23: 2018-19 Budget Estimates (p. 164) | AV23: 2019-20 Budget Estimates (p. 163) | AW23: 2020-21 Budget Estimates (p. 153) | AX23: 2021-22 Budget Estimates (p. 154) | AY23: 2022-23 Budget Estimates (p. 153) | AZ23: 2023-24 Budget Estimates (p. 169) | BB23: =IF(H23=0,"","*") | BC23: =IF(I23=0,"","*") | BD23: =IF(J23=0,"","*") | BE23: =IF(K23=0,"","*") | BF23: =IF(L23=0,"","*") | BG23: =IF(M23=0,"","*") | BH23: =IF(N23=0,"","*") | BI23: =IF(O23=0,"","*") | ... BK23: =IF(Q23=0,"","*") | BL23: Budgeted | BM23: Budgeted | BN23: =IF(T23=0,"","*") | BO23: Budgeted | BP23: Budgeted | BQ23: Budgeted | BR23: Budgeted | BS23: Budgeted | BT23: Budgeted | BU23: Budgeted | BV23: Budgeted | BW23: Budgeted
A24: 15 | B24: Child helpline | D24: MWCPA | E24: =_xlfn.XLOOKUP($C$2,$R$9:$AC$9,R24:AC24) -> 200 | F24: Social assistance benefits (272) | G24: Family and children (7104) | Z24: 200 | AA24: 180 | AB24: 200 | AC24: 200 | AE24: =IF(H24=0,"","*") | AF24: =IF(I24=0,"","*") | AG24: =IF(J24=0,"","*") | AH24: =IF(K24=0,"","*") | AI24: =IF(L24=0,"","*") | AJ24: =IF(M24=0,"","*") | AK24: =IF(N24=0,"","*") | AL24: =IF(O24=0,"","*") | ... AV24: =IF(Y24=0,"","*") | AW24: 2020-21 Budget Estimates (p. 153) | AX24: 2021-22 Budget Estimates (p. 154) | AY24: 2022-23 Budget Estimates (p. 153) | AZ24: 2023-24 Budget Estimates (p. 169) | BB24: =IF(H24=0,"","*") | BC24: =IF(I24=0,"","*") | BD24: =IF(J24=0,"","*") | BE24: =IF(K24=0,"","*") | BF24: =IF(L24=0,"","*") | BG24: =IF(M24=0,"","*") | BH24: =IF(N24=0,"","*") | BI24: =IF(O24=0,"","*") | ... BS24: =IF(Y24=0,"","*") | BT24: Budgeted | BU24: Budgeted | BV24: Budgeted | BW24: Budgeted
A25: 16 | B25: Social Welfare Management Information System (DFAT) | D25: MWCPA | E25: =_xlfn.XLOOKUP($C$2,$R$9:$AC$9,R25:AC25) -> 500 | F25: Social assistance benefits (272) | G25: Social protection n.e.c (7019) | Z25: 2193.702 | AA25: 150 | AB25: 500 | AC25: 1800 | AE25: =IF(H25=0,"","*") | AF25: =IF(I25=0,"","*") | AG25: =IF(J25=0,"","*") | AH25: =IF(K25=0,"","*") | AI25: =IF(L25=0,"","*") | AJ25: =IF(M25=0,"","*") | AK25: =IF(N25=0,"","*") | AL25: =IF(O25=0,"","*") | ... AV25: =IF(Y25=0,"","*") | AW25: 2020-21 Budget Estimates (p. 153) | AX25: 2021-22 Budget Estimates (p. 154) | AY25: 2022-23 Budget Estimates (p. 153) | AZ25: 2023-24 Budget Estimates (p. 169) | BB25: =IF(H25=0,"","*") | BC25: =IF(I25=0,"","*") | BD25: =IF(J25=0,"","*") | BE25: =IF(K25=0,"","*") | BF25: =IF(L25=0,"","*") | BG25: =IF(M25=0,"","*") | BH25: =IF(N25=0,"","*") | BI25: =IF(O25=0,"","*") | ... BS25: =IF(Y25=0,"","*") | BT25: Budgeted | BU25: Budgeted | BV25: Budgeted | BW25: Budgeted
A26: 17 | B26: Ageing with Dignity | D26: MWCPA | E26: =_xlfn.XLOOKUP($C$2,$R$9:$AC$9,R26:AC26) -> 45 | F26: Social assistance benefits (272) | G26: Old age (7102) | AB26: 45 | AE26: =IF(H26=0,"","*") | AF26: =IF(I26=0,"","*") | AG26: =IF(J26=0,"","*") | AH26: =IF(K26=0,"","*") | AI26: =IF(L26=0,"","*") | AJ26: =IF(M26=0,"","*") | AK26: =IF(N26=0,"","*") | AL26: =IF(O26=0,"","*") | ... AW26: =IF(Z26=0,"","*") | AY26: 2022-23 Budget Estimates (p. 153) | AZ26: =IF(AC26=0,"","*") | BB26: =IF(H26=0,"","*") | BC26: =IF(I26=0,"","*") | BD26: =IF(J26=0,"","*") | BE26: =IF(K26=0,"","*") | BF26: =IF(L26=0,"","*") | BG26: =IF(M26=0,"","*") | BH26: =IF(N26=0,"","*") | BI26: =IF(O26=0,"","*") | ... BT26: =IF(Z26=0,"","*") | BV26: Budgeted | BW26: =IF(AC26=0,"","*")
A27: 18 | B27: Welfare Graduation Programme | D27: MWCPA | E27: =_xlfn.XLOOKUP($C$2,$R$9:$AC$9,R27:AC27) -> 0 | F27: Social assistance benefits (272) | G27: Social exclusion n.e.c (7107) | AC27: 200 | AE27: =IF(H27=0,"","*") | AF27: =IF(I27=0,"","*") | AG27: =IF(J27=0,"","*") | AH27: =IF(K27=0,"","*") | AI27: =IF(L27=0,"","*") | AJ27: =IF(M27=0,"","*") | AK27: =IF(N27=0,"","*") | AL27: =IF(O27=0,"","*") | ... AW27: =IF(Z27=0,"","*") | AY27: =IF(AB27=0,"","*") | AZ27: 2023-24 Budget Estimates (p. 169) | BB27: =IF(H27=0,"","*") | BC27: =IF(I27=0,"","*") | BD27: =IF(J27=0,"","*") | BE27: =IF(K27=0,"","*") | BF27: =IF(L27=0,"","*") | BG27: =IF(M27=0,"","*") | BH27: =IF(N27=0,"","*") | BI27: =IF(O27=0,"","*") | ... BT27: =IF(Z27=0,"","*") | BV27: =IF(AB27=0,"","*") | BW27: Budgeted
A28: 19 | B28: Unemployment benefit (COVID-19) | C28: 2020-22 | F28: Social assistance benefits (272) | G28: Unemployment (7105) | Z28: 191301.9 | AA28: 193150.8 | AW28: 2022-23 Budget Estimates (p. 276) | AX28: 2023-24 Budget Estimates (p. 304) | BR28: =IF(X28=0,"","*") | BS28: =IF(Y28=0,"","*") | BT28: Actual | BU28: Actual | BV28: =IF(AB28=0,"","*") | BW28: =IF(AC28=0,"","*")
A29: 20 | B29: Inflation mitigation - children and C&P allowance | C29: 2022-23 | F29: Social assistance benefits (272) | G29: Family and children (7104) | AB29: 50997.592 | AY29: Author calculations based on media reports | BV29: Actual
A30: 21 | B30: Inflation mitigation - tertiary students | C30: 2022-23 | F30: Social assistance benefits (272) | G30: Social protection n.e.c (7019) | AB30: 3821.04 | AY30: Author calculations based on media reports | BV30: Actual
A31: 22 | B31: Inflation mitigation - Social pension scheme | C31: 2022-23 | F31: Social assistance benefits (272) | G31: Old age (7102) | AB31: 7906.28 | AY31: Author calculations based on media reports | BV31: Actual
A32: 23 | B32: Inflation mitigation - Disability allowance | C32: 2022-23 | F32: Social assistance benefits (272) | G32: Sickness and disability (7101) | AB32: 1569.408 | AY32: Author calculations based on media reports | BV32: Actual
A33: 24 | B33: Inflation mitigation - FAS / PBS | C33: 2022-23 | F33: Social assistance benefits (272) | G33: Social exclusion n.e.c (7107) | AB33: 4042.36 | AE33: =IF(H33=0,"","*") | AF33: =IF(I33=0,"","*") | AG33: =IF(J33=0,"","*") | AH33: =IF(K33=0,"","*") | AI33: =IF(L33=0,"","*") | AJ33: =IF(M33=0,"","*") | AK33: =IF(N33=0,"","*") | AL33: =IF(O33=0,"","*") | ... AW33: =IF(Z33=0,"","*") | AY33: Author calculations based on media reports | AZ33: =IF(AC33=0,"","*") | BB33: =IF(H33=0,"","*") | BC33: =IF(I33=0,"","*") | BD33: =IF(J33=0,"","*") | BE33: =IF(K33=0,"","*") | BF33: =IF(L33=0,"","*") | BG33: =IF(M33=0,"","*") | BH33: =IF(N33=0,"","*") | BI33: =IF(O33=0,"","*") | ... BT33: =IF(Z33=0,"","*") | BV33: Actual | BW33: =IF(AC33=0,"","*")
A34: 25 | B34: Inflation mitigation - Aftercare and pensioners | C34: 2022-23 | F34: Public servant benefits (273) | G34: Old age (7102) | AB34: 1293.84 | AE34: =IF(H34=0,"","*") | AF34: =IF(I34=0,"","*") | AG34: =IF(J34=0,"","*") | AH34: =IF(K34=0,"","*") | AI34: =IF(L34=0,"","*") | AJ34: =IF(M34=0,"","*") | AK34: =IF(N34=0,"","*") | AL34: =IF(O34=0,"","*") | ... AW34: =IF(Z34=0,"","*") | AY34: Author calculations based on media reports | AZ34: =IF(AC34=0,"","*") | BB34: =IF(H34=0,"","*") | BC34: =IF(I34=0,"","*") | BD34: =IF(J34=0,"","*") | BE34: =IF(K34=0,"","*") | BF34: =IF(L34=0,"","*") | BG34: =IF(M34=0,"","*") | BH34: =IF(N34=0,"","*") | BI34: =IF(O34=0,"","*") | ... BT34: =IF(Z34=0,"","*") | BV34: Actual | BW34: =IF(AC34=0,"","*")
B35: Provident fund withdrawals
A36: PF1 | B36: FNPF - Retirement (55 years and over) | C36: 1966 | D36: FNPF | E36: =_xlfn.XLOOKUP($C$2,$R$9:$AC$9,R36:AC36) -> 189690 | F36: Provident fund withdrawals | G36: Old age (7102) | P36: 120700 | Q36: 117500 | R36: 109300 | S36: 115000 | T36: 123100 | U36: 136000 | V36: 137306 | W36: 143981 | X36: 167131 | Y36: 191798 | Z36: 217917 | AA36: 209785 | AB36: 189690 | AE36: =IF(H36=0,"","*") | AF36: =IF(I36=0,"","*") | AG36: =IF(J36=0,"","*") | AH36: =IF(K36=0,"","*") | AI36: =IF(L36=0,"","*") | AJ36: =IF(M36=0,"","*") | AK36: =IF(N36=0,"","*") | AL36: =IF(O36=0,"","*") | AM36: FNPF Annual Report 2015 (p. 5) | AN36: FNPF Annual Report 2015 (p. 5) | AO36: FNPF Annual Report 2015 (p. 5) | AP36: FNPF Annual Report 2015 (p. 5) | AQ36: FNPF Annual Report 2015 (p. 5) | AR36: FNPF Annual Report 2015 (p. 5) | AS36: FNPF Annual Report 2017 (p.106) | AT36: FNPF Annual Report 2018 (p.105) | AU36: FNPF Annual Report 2019 (p.135) | AV36: FNPF Annual Report 2021 (p.103) | AW36: FNPF Annual Report 2021 (p.103) | AX36: FNPF Annual Report 2022 (p.102) | AY36: FNPF Annual Report 2023 (p.100) | AZ36: =IF(AC36=0,"","*") | BB36: =IF(H36=0,"","*") | BC36: =IF(I36=0,"","*") | BD36: =IF(J36=0,"","*") | BE36: =IF(K36=0,"","*") | BF36: =IF(L36=0,"","*") | BG36: =IF(M36=0,"","*") | BH36: =IF(N36=0,"","*") | BI36: =IF(O36=0,"","*") | BJ36: Actual | BK36: Actual | BL36: Actual | BM36: Actual | BN36: Actual | BO36: Actual | BP36: Actual | BQ36: Actual | BR36: Actual | BS36: Actual | BT36: Actual | BU36: Actual | BV36: Actual | BW36: =IF(AC36=0,"","*")
A37: PF2 | B37: FNPF - Disability | C37: 1966 | D37: FNPF | E37: =_xlfn.XLOOKUP($C$2,$R$9:$AC$9,R37:AC37) -> 7542 | F37: Provident fund withdrawals | G37: Survivors (7103) | P37: 3600 | Q37: 3500 | R37: 4900 | S37: 3200 | T37: 3200 | U37: 4754 | V37: 4555 | W37: 4827 | X37: 4517 | Y37: 3899 | Z37: 5080 | AA37: 5637 | AB37: 7542 | AE37: =IF(H37=0,"","*") | AF37: =IF(I37=0,"","*") | AG37: =IF(J37=0,"","*") | AH37: =IF(K37=0,"","*") | AI37: =IF(L37=0,"","*") | AJ37: =IF(M37=0,"","*") | AK37: =IF(N37=0,"","*") | AL37: =IF(O37=0,"","*") | AM37: FNPF Annual Report 2015 (p. 5) | AN37: FNPF Annual Report 2015 (p. 5) | AO37: FNPF Annual Report 2015 (p. 5) | AP37: FNPF Annual Report 2015 (p. 5) | AQ37: FNPF Annual Report 2015 (p. 5) | AR37: FNPF Annual Report 2015 (p. 5) | AS37: FNPF Annual Report 2017 (p.106) | AT37: FNPF Annual Report 2018 (p.105) | AU37: FNPF Annual Report 2019 (p.135) | AV37: FNPF Annual Report 2021 (p.103) | AW37: FNPF Annual Report 2021 (p.103) | AX37: FNPF Annual Report 2022 (p.102) | AY37: FNPF Annual Report 2023 (p.100) | AZ37: =IF(AC37=0,"","*") | BB37: =IF(H37=0,"","*") | BC37: =IF(I37=0,"","*") | BD37: =IF(J37=0,"","*") | BE37: =IF(K37=0,"","*") | BF37: =IF(L37=0,"","*") | BG37: =IF(M37=0,"","*") | BH37: =IF(N37=0,"","*") | BI37: =IF(O37=0,"","*") | BJ37: Actual | BK37: Actual | BL37: Actual | BM37: Actual | BN37: Actual | BO37: Actual | BP37: Actual | BQ37: Actual | BR37: Actual | BS37: Actual | BT37: Actual | BU37: Actual | BV37: Actual | BW37: =IF(AC37=0,"","*")
